Package: Rmagpie Version: 1.65.0 Command: /Library/Frameworks/R.framework/Resources/bin/R CMD build --keep-empty-dirs --no-resave-data Rmagpie StartedAt: 2025-10-06 17:31:53 -0400 (Mon, 06 Oct 2025) EndedAt: 2025-10-06 17:32:08 -0400 (Mon, 06 Oct 2025) EllapsedTime: 15.2 seconds RetCode: 0 Status: OK PackageFile: Rmagpie_1.65.0.tar.gz PackageFileSize: 465 KiB