Package: Rmagpie Version: 1.65.0 Command: rm -rf Rmagpie.buildbin-libdir && mkdir Rmagpie.buildbin-libdir && /Users/biocbuild/BBS/utils/build-universal.sh Rmagpie_1.65.0.tar.gz /Library/Frameworks/R.framework/Resources/bin/R Rmagpie.buildbin-libdir StartedAt: 2025-10-06 22:57:47 -0400 (Mon, 06 Oct 2025) EndedAt: 2025-10-06 22:57:52 -0400 (Mon, 06 Oct 2025) EllapsedTime: 5.1 seconds RetCode: 0 Status: OK PackageFile: Rmagpie_1.65.0.tgz PackageFileSize: 860.5 KiB