Package: Rigraphlib Version: 1.3.0 Command: /home/biocbuild/bbs-3.23-bioc/R/bin/R CMD INSTALL Rigraphlib StartedAt: 2025-10-31 15:13:14 -0400 (Fri, 31 Oct 2025) EndedAt: 2025-10-31 15:16:29 -0400 (Fri, 31 Oct 2025) EllapsedTime: 194.6 seconds RetCode: 0 Status: OK