Package: Rigraphlib Version: 1.3.0 Command: /home/biocbuild/bbs-3.23-bioc/R/bin/R CMD check --install=check:Rigraphlib.install-out.txt --library=/home/biocbuild/bbs-3.23-bioc/R/site-library --timings Rigraphlib_1.3.0.tar.gz StartedAt: 2025-11-01 02:53:53 -0400 (Sat, 01 Nov 2025) EndedAt: 2025-11-01 02:54:09 -0400 (Sat, 01 Nov 2025) EllapsedTime: 16.0 seconds RetCode: 0 Status: WARNINGS CheckDir: Rigraphlib.Rcheck Warnings: 1