Package: Rigraphlib Version: 1.1.2 Command: /Library/Frameworks/R.framework/Resources/bin/R CMD check --install=check:Rigraphlib.install-out.txt --library=/Library/Frameworks/R.framework/Resources/library --no-vignettes --timings Rigraphlib_1.1.2.tar.gz StartedAt: 2025-10-24 23:45:57 -0400 (Fri, 24 Oct 2025) EndedAt: 2025-10-24 23:46:22 -0400 (Fri, 24 Oct 2025) EllapsedTime: 25.1 seconds RetCode: 0 Status: WARNINGS CheckDir: Rigraphlib.Rcheck Warnings: 1