Package: RiboProfiling Version: 1.39.1 Command: /home/biocbuild/R/R/bin/R CMD INSTALL RiboProfiling StartedAt: 2025-10-23 21:13:59 -0000 (Thu, 23 Oct 2025) EndedAt: 2025-10-23 21:15:01 -0000 (Thu, 23 Oct 2025) EllapsedTime: 61.9 seconds RetCode: 0 Status: OK