Package: RiboProfiling Version: 1.39.1 Command: /home/biocbuild/R/R/bin/R CMD build --keep-empty-dirs --no-resave-data RiboProfiling StartedAt: 2025-10-21 02:28:14 -0000 (Tue, 21 Oct 2025) EndedAt: 2025-10-21 02:32:39 -0000 (Tue, 21 Oct 2025) EllapsedTime: 265.2 seconds RetCode: 1 Status: ERROR PackageFile: None PackageFileSize: NA