Package: RiboProfiling Version: 1.41.0 Command: /home/biocbuild/bbs-3.23-bioc/R/bin/R CMD INSTALL RiboProfiling StartedAt: 2025-11-02 15:54:11 -0500 (Sun, 02 Nov 2025) EndedAt: 2025-11-02 15:54:59 -0500 (Sun, 02 Nov 2025) EllapsedTime: 47.4 seconds RetCode: 0 Status: OK