Package: RiboProfiling Version: 1.41.0 Command: /home/biocbuild/bbs-3.23-bioc/R/bin/R CMD build --keep-empty-dirs --no-resave-data RiboProfiling StartedAt: 2025-11-03 19:28:48 -0500 (Mon, 03 Nov 2025) EndedAt: 2025-11-03 19:32:09 -0500 (Mon, 03 Nov 2025) EllapsedTime: 201.3 seconds RetCode: 1 Status: ERROR PackageFile: None PackageFileSize: NA