Package: RiboDiPA Version: 1.19.0 Command: /home/biocbuild/bbs-3.23-bioc/R/bin/R CMD INSTALL RiboDiPA StartedAt: 2025-11-26 15:40:09 -0500 (Wed, 26 Nov 2025) EndedAt: 2025-11-26 15:41:00 -0500 (Wed, 26 Nov 2025) EllapsedTime: 51.4 seconds RetCode: 0 Status: OK