Package: RiboDiPA Version: 1.19.0 Command: /home/biocbuild/bbs-3.23-bioc/R/bin/R CMD build --keep-empty-dirs --no-resave-data RiboDiPA StartedAt: 2025-11-25 19:39:12 -0500 (Tue, 25 Nov 2025) EndedAt: 2025-11-25 19:45:05 -0500 (Tue, 25 Nov 2025) EllapsedTime: 353.4 seconds RetCode: 0 Status: OK PackageFile: RiboDiPA_1.19.0.tar.gz PackageFileSize: 1.754 MiB