Package: RiboDiPA Version: 1.19.0 Command: /Library/Frameworks/R.framework/Resources/bin/R CMD INSTALL RiboDiPA StartedAt: 2025-11-20 15:20:22 -0500 (Thu, 20 Nov 2025) EndedAt: 2025-11-20 15:20:42 -0500 (Thu, 20 Nov 2025) EllapsedTime: 20.1 seconds RetCode: 0 Status: OK