Package: RiboDiPA Version: 1.19.0 Command: /Library/Frameworks/R.framework/Resources/bin/R CMD build --keep-empty-dirs --no-resave-data RiboDiPA StartedAt: 2025-11-20 17:27:51 -0500 (Thu, 20 Nov 2025) EndedAt: 2025-11-20 17:30:06 -0500 (Thu, 20 Nov 2025) EllapsedTime: 135.4 seconds RetCode: 0 Status: OK PackageFile: RiboDiPA_1.19.0.tar.gz PackageFileSize: 1.817 MiB