Package: RiboDiPA Version: 1.19.0 Command: rm -rf RiboDiPA.buildbin-libdir && mkdir RiboDiPA.buildbin-libdir && /Users/biocbuild/BBS/utils/build-universal.sh RiboDiPA_1.19.0.tar.gz /Library/Frameworks/R.framework/Resources/bin/R RiboDiPA.buildbin-libdir StartedAt: 2025-11-20 23:48:44 -0500 (Thu, 20 Nov 2025) EndedAt: 2025-11-20 23:49:08 -0500 (Thu, 20 Nov 2025) EllapsedTime: 24.4 seconds RetCode: 0 Status: OK PackageFile: RiboDiPA_1.19.0.tgz PackageFileSize: 1.54 MiB