Package: RiboCrypt Version: 1.17.0 Command: /home/biocbuild/bbs-3.23-bioc/R/bin/R CMD INSTALL RiboCrypt StartedAt: 2025-11-03 15:41:15 -0500 (Mon, 03 Nov 2025) EndedAt: 2025-11-03 15:42:04 -0500 (Mon, 03 Nov 2025) EllapsedTime: 49.5 seconds RetCode: 0 Status: OK