Package: RiboCrypt Version: 1.15.4 Command: /Library/Frameworks/R.framework/Resources/bin/R CMD INSTALL RiboCrypt StartedAt: 2025-10-07 15:38:19 -0400 (Tue, 07 Oct 2025) EndedAt: 2025-10-07 15:39:29 -0400 (Tue, 07 Oct 2025) EllapsedTime: 70.6 seconds RetCode: 0 Status: OK