Package: RiboCrypt Version: 1.15.4 Command: /Library/Frameworks/R.framework/Resources/bin/R CMD build --keep-empty-dirs --no-resave-data RiboCrypt StartedAt: 2025-10-06 18:45:01 -0400 (Mon, 06 Oct 2025) EndedAt: 2025-10-06 18:46:57 -0400 (Mon, 06 Oct 2025) EllapsedTime: 116.4 seconds RetCode: 0 Status: OK PackageFile: RiboCrypt_1.15.4.tar.gz PackageFileSize: 12.24 MiB