Package: RiboCrypt Version: 1.15.4 Command: rm -rf RiboCrypt.buildbin-libdir && mkdir RiboCrypt.buildbin-libdir && /Users/biocbuild/BBS/utils/build-universal.sh RiboCrypt_1.15.4.tar.gz /Library/Frameworks/R.framework/Resources/bin/R RiboCrypt.buildbin-libdir StartedAt: 2025-10-08 02:37:27 -0400 (Wed, 08 Oct 2025) EndedAt: 2025-10-08 02:38:45 -0400 (Wed, 08 Oct 2025) EllapsedTime: 78.2 seconds RetCode: 0 Status: OK PackageFile: RiboCrypt_1.15.4.tgz PackageFileSize: 12.62 MiB