Package: RiboCrypt Version: 1.15.4 Command: rm -rf RiboCrypt.buildbin-libdir && mkdir RiboCrypt.buildbin-libdir && /Users/biocbuild/BBS/utils/build-universal.sh RiboCrypt_1.15.4.tar.gz /Library/Frameworks/R.framework/Resources/bin/R RiboCrypt.buildbin-libdir StartedAt: 2025-09-21 23:02:43 -0400 (Sun, 21 Sep 2025) EndedAt: 2025-09-21 23:03:06 -0400 (Sun, 21 Sep 2025) EllapsedTime: 23.4 seconds RetCode: 0 Status: OK PackageFile: RiboCrypt_1.15.4.tgz PackageFileSize: 12.62 MiB