Package: RiboCrypt Version: 1.15.4 Maintainer: Michal Swirski MaintainerEmail: michal.swirski at uw.edu.pl git_url: https://git.bioconductor.org/packages/RiboCrypt git_branch: devel git_last_commit: e669838 git_last_commit_date: 2025-09-19 08:52:30 -0400 (Fri, 19 Sep 2025)