Package: Rhtslib Version: 3.5.0 Command: /home/biocbuild/R/R/bin/R CMD build --keep-empty-dirs --no-resave-data Rhtslib StartedAt: 2025-09-19 03:25:11 -0000 (Fri, 19 Sep 2025) EndedAt: 2025-09-19 03:27:30 -0000 (Fri, 19 Sep 2025) EllapsedTime: 139.2 seconds RetCode: 0 Status: OK PackageFile: Rhtslib_3.5.0.tar.gz PackageFileSize: 4.935 MiB