Package: Rhtslib Version: 3.7.0 Command: /home/biocbuild/bbs-3.23-bioc/R/bin/R CMD INSTALL Rhtslib StartedAt: 2025-11-07 15:03:31 -0500 (Fri, 07 Nov 2025) EndedAt: 2025-11-07 15:05:00 -0500 (Fri, 07 Nov 2025) EllapsedTime: 89.0 seconds RetCode: 0 Status: OK