Package: Rhtslib Version: 3.7.0 Command: /home/biocbuild/bbs-3.23-bioc/R/bin/R CMD check --install=check:Rhtslib.install-out.txt --library=/home/biocbuild/bbs-3.23-bioc/R/site-library --timings Rhtslib_3.7.0.tar.gz StartedAt: 2025-11-08 03:11:38 -0500 (Sat, 08 Nov 2025) EndedAt: 2025-11-08 03:11:56 -0500 (Sat, 08 Nov 2025) EllapsedTime: 18.0 seconds RetCode: 0 Status: OK CheckDir: Rhtslib.Rcheck Warnings: 0