Package: Rhtslib Version: 3.6.0 Command: /Library/Frameworks/R.framework/Resources/bin/R CMD check --install=check:Rhtslib.install-out.txt --library=/Library/Frameworks/R.framework/Resources/library --no-vignettes --timings Rhtslib_3.6.0.tar.gz StartedAt: 2025-10-30 04:05:18 -0400 (Thu, 30 Oct 2025) EndedAt: 2025-10-30 04:05:30 -0400 (Thu, 30 Oct 2025) EllapsedTime: 12.2 seconds RetCode: 0 Status: OK CheckDir: Rhtslib.Rcheck Warnings: 0