Package: Rhisat2 Version: 1.27.0 Command: /home/biocbuild/bbs-3.23-bioc/R/bin/R CMD build --keep-empty-dirs --no-resave-data Rhisat2 StartedAt: 2025-11-05 19:38:10 -0500 (Wed, 05 Nov 2025) EndedAt: 2025-11-05 19:41:45 -0500 (Wed, 05 Nov 2025) EllapsedTime: 215.3 seconds RetCode: 0 Status: OK PackageFile: Rhisat2_1.27.0.tar.gz PackageFileSize: 6.745 MiB