Package: Rhisat2 Version: 1.25.0 Command: /Library/Frameworks/R.framework/Resources/bin/R CMD INSTALL Rhisat2 StartedAt: 2025-10-16 16:06:27 -0400 (Thu, 16 Oct 2025) EndedAt: 2025-10-16 16:09:26 -0400 (Thu, 16 Oct 2025) EllapsedTime: 178.9 seconds RetCode: 0 Status: OK