Package: Rhisat2 Version: 1.25.0 Command: /Library/Frameworks/R.framework/Resources/bin/R CMD build --keep-empty-dirs --no-resave-data Rhisat2 StartedAt: 2025-10-17 19:01:53 -0400 (Fri, 17 Oct 2025) EndedAt: 2025-10-17 19:05:46 -0400 (Fri, 17 Oct 2025) EllapsedTime: 232.2 seconds RetCode: 0 Status: OK PackageFile: Rhisat2_1.25.0.tar.gz PackageFileSize: 6.745 MiB