Package: Rhisat2 Version: 1.25.0 Command: /Library/Frameworks/R.framework/Resources/bin/R CMD INSTALL Rhisat2 StartedAt: 2025-10-08 15:28:25 -0400 (Wed, 08 Oct 2025) EndedAt: 2025-10-08 15:29:13 -0400 (Wed, 08 Oct 2025) EllapsedTime: 47.9 seconds RetCode: 0 Status: OK