Package: Rhisat2 Version: 1.25.0 Command: /Library/Frameworks/R.framework/Resources/bin/R CMD build --keep-empty-dirs --no-resave-data Rhisat2 StartedAt: 2025-10-08 17:36:19 -0400 (Wed, 08 Oct 2025) EndedAt: 2025-10-08 17:37:17 -0400 (Wed, 08 Oct 2025) EllapsedTime: 58.6 seconds RetCode: 0 Status: OK PackageFile: Rhisat2_1.25.0.tar.gz PackageFileSize: 6.745 MiB