Package: Rhisat2 Version: 1.25.0 Command: rm -rf Rhisat2.buildbin-libdir && mkdir Rhisat2.buildbin-libdir && /Users/biocbuild/BBS/utils/build-universal.sh Rhisat2_1.25.0.tar.gz /Library/Frameworks/R.framework/Resources/bin/R Rhisat2.buildbin-libdir StartedAt: 2025-10-08 23:00:51 -0400 (Wed, 08 Oct 2025) EndedAt: 2025-10-08 23:01:42 -0400 (Wed, 08 Oct 2025) EllapsedTime: 51.0 seconds RetCode: 0 Status: OK PackageFile: Rhisat2_1.25.0.tgz PackageFileSize: 1.091 MiB