Package: Rhdf5lib Version: 1.33.0 Command: /home/biocbuild/bbs-3.23-bioc/R/bin/R CMD INSTALL Rhdf5lib StartedAt: 2025-11-21 15:02:31 -0500 (Fri, 21 Nov 2025) EndedAt: 2025-11-21 15:06:17 -0500 (Fri, 21 Nov 2025) EllapsedTime: 226.2 seconds RetCode: 0 Status: OK