Back to Build/check report for BioC 3.23:   simplified   long
ABCDEFGHIJKLMNOPQ[R]STUVWXYZ

This page was generated on 2025-10-31 08:34 -0400 (Fri, 31 Oct 2025).

HostnameOSArch (*)R versionInstalled pkgs
nebbiolo1Linux (Ubuntu 24.04.3 LTS)x86_64R Under development (unstable) (2025-10-20 r88955) -- "Unsuffered Consequences" 4428
Click on any hostname to see more info about the system (e.g. compilers)      (*) as reported by 'uname -p', except on Windows and Mac OS X

All results for package Rhdf5lib


To the developers/maintainers of the Rhdf5lib package:
- Allow up to 24 hours (and sometimes 48 hours) for your latest push to git@git.bioconductor.org:packages/Rhdf5lib.git to reflect on this report. See Troubleshooting Build Report for more information.
- Use the following Renviron settings to reproduce errors and warnings.
- If 'R CMD check' started to fail recently on the Linux builder(s) over a missing dependency, add the missing dependency to 'Suggests:' in your DESCRIPTION file. See Renviron.bioc for more information.

raw results

Package 1761/2321HostnameOS / ArchINSTALLBUILDCHECKBUILD BIN
Rhdf5lib 1.33.0  (landing page)
Hugo Gruson
Snapshot Date: 2025-10-30 13:40 -0400 (Thu, 30 Oct 2025)
git_url: https://git.bioconductor.org/packages/Rhdf5lib
git_branch: devel
git_last_commit: f6dc8d9
git_last_commit_date: 2025-10-29 10:39:14 -0400 (Wed, 29 Oct 2025)
nebbiolo1Linux (Ubuntu 24.04.3 LTS) / x86_64  OK    OK    WARNINGS  YES



Results for Bioconductor software packages that depend directly on package Rhdf5lib

QUICK STATSOS / ArchINSTALLBUILDCHECKBUILD BIN
nebbiolo1Linux (Ubuntu 24.04.3 LTS) / x86_64
0114
0213
00112
Package 1/15HostnameOS / ArchINSTALLBUILDCHECKBUILD BIN
alabaster.base 1.11.0  (landing page)
Aaron Lun
git_last_commit: f3bb4e9
git_last_commit_date: 2025-10-29 11:21:08 -0400
nebbiolo1Linux (Ubuntu 24.04.3 LTS) / x86_64  OK    OK    WARNINGS  YES
Package 2/15HostnameOS / ArchINSTALLBUILDCHECKBUILD BIN
beachmat.hdf5 1.9.0  (landing page)
Aaron Lun
git_last_commit: c02a721
git_last_commit_date: 2025-10-29 11:24:41 -0400
nebbiolo1Linux (Ubuntu 24.04.3 LTS) / x86_64  OK    OK    WARNINGS  NO, package depends on 'beachmat' which is not available
Package 3/15HostnameOS / ArchINSTALLBUILDCHECKBUILD BIN
chihaya 1.11.0  (landing page)
Aaron Lun
git_last_commit: d520e49
git_last_commit_date: 2025-10-29 11:21:37 -0400
nebbiolo1Linux (Ubuntu 24.04.3 LTS) / x86_64  OK    OK    WARNINGS  NO, package depends on 'DelayedArray' which is not available
Package 4/15HostnameOS / ArchINSTALLBUILDCHECKBUILD BIN
cytolib 2.23.0  (landing page)
Mike Jiang
git_last_commit: 7752793
git_last_commit_date: 2025-10-29 10:40:14 -0400
nebbiolo1Linux (Ubuntu 24.04.3 LTS) / x86_64  OK    OK    WARNINGS  YES
Package 5/15HostnameOS / ArchINSTALLBUILDCHECKBUILD BIN
CytoML 2.23.0  (landing page)
Mike Jiang
git_last_commit: 8f95dab
git_last_commit_date: 2025-10-29 10:33:02 -0400
nebbiolo1Linux (Ubuntu 24.04.3 LTS) / x86_64  OK    OK    WARNINGS  NO, package depends on 'flowWorkspace' which is not available
Package 6/15HostnameOS / ArchINSTALLBUILDCHECKBUILD BIN
DropletUtils 1.31.0  (landing page)
Jonathan Griffiths
git_last_commit: 92de364
git_last_commit_date: 2025-10-29 10:42:43 -0400
nebbiolo1Linux (Ubuntu 24.04.3 LTS) / x86_64  OK    OK    WARNINGS  NO, package depends on 'SingleCellExperiment' which is not available
Package 7/15HostnameOS / ArchINSTALLBUILDCHECKBUILD BIN
epigraHMM 1.19.0  (landing page)
Pedro Baldoni
git_last_commit: af5be02
git_last_commit_date: 2025-10-29 11:09:46 -0400
nebbiolo1Linux (Ubuntu 24.04.3 LTS) / x86_64  OK    ERROR  skipped
Package 8/15HostnameOS / ArchINSTALLBUILDCHECKBUILD BIN
flowWorkspace 4.23.0  (landing page)
Greg Finak , Mike Jiang
git_last_commit: 824996d
git_last_commit_date: 2025-10-29 10:07:43 -0400
nebbiolo1Linux (Ubuntu 24.04.3 LTS) / x86_64  OK    OK    WARNINGS  NO, package depends on 'DelayedArray' which is not available
Package 9/15HostnameOS / ArchINSTALLBUILDCHECKBUILD BIN
h5mread 1.3.0  (landing page)
Hervé Pagès
git_last_commit: 376f55f
git_last_commit_date: 2025-10-29 14:49:58 -0400
nebbiolo1Linux (Ubuntu 24.04.3 LTS) / x86_64  OK    OK    WARNINGS  NO, package depends on 'SparseArray' which is not available
Package 10/15HostnameOS / ArchINSTALLBUILDCHECKBUILD BIN
mbkmeans 1.27.0  (landing page)
Davide Risso
git_last_commit: 2aa9036
git_last_commit_date: 2025-10-29 10:51:15 -0400
nebbiolo1Linux (Ubuntu 24.04.3 LTS) / x86_64  OK    OK    OK  NO, package depends on 'DelayedArray' which is not available
Package 11/15HostnameOS / ArchINSTALLBUILDCHECKBUILD BIN
mzR 2.45.0  (landing page)
Steffen Neumann
git_last_commit: b483816
git_last_commit_date: 2025-10-29 10:08:33 -0400
nebbiolo1Linux (Ubuntu 24.04.3 LTS) / x86_64  OK    OK    WARNINGS  YES
Package 12/15HostnameOS / ArchINSTALLBUILDCHECKBUILD BIN
ncdfFlow 2.57.0  (landing page)
Mike Jiang
git_last_commit: 1d39b7d
git_last_commit_date: 2025-10-29 10:09:38 -0400
nebbiolo1Linux (Ubuntu 24.04.3 LTS) / x86_64  OK    OK    WARNINGS  YES
Package 13/15HostnameOS / ArchINSTALLBUILDCHECKBUILD BIN
rhdf5 2.55.0  (landing page)
Hugo Gruson
git_last_commit: b4fe24f
git_last_commit_date: 2025-10-29 10:10:03 -0400
nebbiolo1Linux (Ubuntu 24.04.3 LTS) / x86_64  OK    OK    WARNINGS  YES
Package 14/15HostnameOS / ArchINSTALLBUILDCHECKBUILD BIN
rhdf5filters 1.23.0  (landing page)
Hugo Gruson
git_last_commit: 3bf6eb8
git_last_commit_date: 2025-10-29 10:57:27 -0400
nebbiolo1Linux (Ubuntu 24.04.3 LTS) / x86_64  OK    OK    OK  YES
Package 15/15HostnameOS / ArchINSTALLBUILDCHECKBUILD BIN
stPipe 1.1.0  (landing page)
Yang Xu
git_last_commit: 3b726e3
git_last_commit_date: 2025-10-29 11:37:41 -0400
nebbiolo1Linux (Ubuntu 24.04.3 LTS) / x86_64  ERROR    ERROR  skipped