Package: Rgraphviz Version: 2.53.0 Command: rm -rf Rgraphviz.buildbin-libdir && mkdir Rgraphviz.buildbin-libdir && F:\biocbuild\bbs-3.22-bioc\R\bin\R.exe CMD INSTALL --build --library=Rgraphviz.buildbin-libdir Rgraphviz_2.53.0.tar.gz StartedAt: 2025-08-15 11:07:28 -0400 (Fri, 15 Aug 2025) EndedAt: 2025-08-15 11:19:47 -0400 (Fri, 15 Aug 2025) EllapsedTime: 739.7 seconds RetCode: 0 Status: OK PackageFile: Rgraphviz_2.53.0.zip PackageFileSize: 1.394 MiB