Package: Rgraphviz Version: 2.55.0 Command: /home/biocbuild/bbs-3.23-bioc/R/bin/R CMD INSTALL Rgraphviz StartedAt: 2025-10-31 15:21:15 -0400 (Fri, 31 Oct 2025) EndedAt: 2025-10-31 15:22:54 -0400 (Fri, 31 Oct 2025) EllapsedTime: 98.9 seconds RetCode: 0 Status: OK