Package: Rgraphviz Version: 2.55.0 Command: /home/biocbuild/bbs-3.23-bioc/R/bin/R CMD check --install=check:Rgraphviz.install-out.txt --library=/home/biocbuild/bbs-3.23-bioc/R/site-library --timings Rgraphviz_2.55.0.tar.gz StartedAt: 2025-11-01 02:50:58 -0400 (Sat, 01 Nov 2025) EndedAt: 2025-11-01 02:51:43 -0400 (Sat, 01 Nov 2025) EllapsedTime: 45.1 seconds RetCode: 0 Status: WARNINGS CheckDir: Rgraphviz.Rcheck Warnings: 2