Package: Rgraphviz Version: 2.55.0 Command: /home/biocbuild/bbs-3.23-bioc/R/bin/R CMD build --keep-empty-dirs --no-resave-data Rgraphviz StartedAt: 2025-10-31 19:45:14 -0400 (Fri, 31 Oct 2025) EndedAt: 2025-10-31 19:46:46 -0400 (Fri, 31 Oct 2025) EllapsedTime: 92.1 seconds RetCode: 0 Status: OK PackageFile: Rgraphviz_2.55.0.tar.gz PackageFileSize: 7.31 MiB