Back to Build/check report for BioC 3.23:   simplified   long
ABCDEFGHIJKLMNOPQ[R]STUVWXYZ

This page was generated on 2025-10-31 08:34 -0400 (Fri, 31 Oct 2025).

HostnameOSArch (*)R versionInstalled pkgs
nebbiolo1Linux (Ubuntu 24.04.3 LTS)x86_64R Under development (unstable) (2025-10-20 r88955) -- "Unsuffered Consequences" 4428
Click on any hostname to see more info about the system (e.g. compilers)      (*) as reported by 'uname -p', except on Windows and Mac OS X

All results for package Rgraphviz


To the developers/maintainers of the Rgraphviz package:
- Allow up to 24 hours (and sometimes 48 hours) for your latest push to git@git.bioconductor.org:packages/Rgraphviz.git to reflect on this report. See Troubleshooting Build Report for more information.
- Use the following Renviron settings to reproduce errors and warnings.
- If 'R CMD check' started to fail recently on the Linux builder(s) over a missing dependency, add the missing dependency to 'Suggests:' in your DESCRIPTION file. See Renviron.bioc for more information.

raw results

Package 1754/2321HostnameOS / ArchINSTALLBUILDCHECKBUILD BIN
Rgraphviz 2.55.0  (landing page)
Kasper Daniel Hansen
Snapshot Date: 2025-10-30 13:40 -0400 (Thu, 30 Oct 2025)
git_url: https://git.bioconductor.org/packages/Rgraphviz
git_branch: devel
git_last_commit: 508dbe9
git_last_commit_date: 2025-10-29 09:42:22 -0400 (Wed, 29 Oct 2025)
nebbiolo1Linux (Ubuntu 24.04.3 LTS) / x86_64  OK    OK    WARNINGS  YES



Results for Bioconductor software packages that depend directly on package Rgraphviz

QUICK STATSOS / ArchINSTALLBUILDCHECKBUILD BIN
nebbiolo1Linux (Ubuntu 24.04.3 LTS) / x86_64
0527
01220
03413
Package 1/32HostnameOS / ArchINSTALLBUILDCHECKBUILD BIN
apComplex 2.77.0  (landing page)
Denise Scholtens
git_last_commit: c10f18a
git_last_commit_date: 2025-10-29 09:55:56 -0400
nebbiolo1Linux (Ubuntu 24.04.3 LTS) / x86_64  ERROR    ERROR  skipped
Package 2/32HostnameOS / ArchINSTALLBUILDCHECKBUILD BIN
biocGraph 1.73.0  (landing page)
Florian Hahne
git_last_commit: 68d8be3
git_last_commit_date: 2025-10-29 09:59:36 -0400
nebbiolo1Linux (Ubuntu 24.04.3 LTS) / x86_64  OK    ERROR  skipped
Package 3/32HostnameOS / ArchINSTALLBUILDCHECKBUILD BIN
BioMVCClass 1.79.0  (landing page)
Elizabeth Whalen
git_last_commit: 901e3c4
git_last_commit_date: 2025-10-29 09:58:24 -0400
nebbiolo1Linux (Ubuntu 24.04.3 LTS) / x86_64  OK    OK    OK  YES
Package 4/32HostnameOS / ArchINSTALLBUILDCHECKBUILD BIN
bnem 1.19.0  (landing page)
Martin Pirkl
git_last_commit: c656bcb
git_last_commit_date: 2025-10-29 11:04:57 -0400
nebbiolo1Linux (Ubuntu 24.04.3 LTS) / x86_64  OK    OK    OK  NO, package depends on 'epiNEM' which is not available
Package 5/32HostnameOS / ArchINSTALLBUILDCHECKBUILD BIN
CellNOptR 1.57.0  (landing page)
Attila Gabor
git_last_commit: 1b9d01e
git_last_commit_date: 2025-10-29 10:09:33 -0400
nebbiolo1Linux (Ubuntu 24.04.3 LTS) / x86_64  OK    OK    OK  YES
Package 6/32HostnameOS / ArchINSTALLBUILDCHECKBUILD BIN
chimeraviz 1.37.0  (landing page)
Stian Lågstad
git_last_commit: 3490116
git_last_commit_date: 2025-10-29 10:35:50 -0400
nebbiolo1Linux (Ubuntu 24.04.3 LTS) / x86_64  ERROR    ERROR  skipped
Package 7/32HostnameOS / ArchINSTALLBUILDCHECKBUILD BIN
CytoML 2.23.0  (landing page)
Mike Jiang
git_last_commit: 8f95dab
git_last_commit_date: 2025-10-29 10:33:02 -0400
nebbiolo1Linux (Ubuntu 24.04.3 LTS) / x86_64  OK    OK    WARNINGS  NO, package depends on 'flowWorkspace' which is not available
Package 8/32HostnameOS / ArchINSTALLBUILDCHECKBUILD BIN
DEGraph 1.63.0  (landing page)
Laurent Jacob
git_last_commit: 71c129b
git_last_commit_date: 2025-10-29 10:06:12 -0400
nebbiolo1Linux (Ubuntu 24.04.3 LTS) / x86_64  OK    OK    OK  NO, package depends on 'KEGGgraph' which is not available
Package 9/32HostnameOS / ArchINSTALLBUILDCHECKBUILD BIN
EnrichDO 1.5.0  (landing page)
Hongyu Fu
git_last_commit: cb44ad0
git_last_commit_date: 2025-10-29 11:31:56 -0400
nebbiolo1Linux (Ubuntu 24.04.3 LTS) / x86_64  OK    OK    OK  YES
Package 10/32HostnameOS / ArchINSTALLBUILDCHECKBUILD BIN
EnrichmentBrowser 2.41.0  (landing page)
Ludwig Geistlinger
git_last_commit: eb4505a
git_last_commit_date: 2025-10-29 10:21:30 -0400
nebbiolo1Linux (Ubuntu 24.04.3 LTS) / x86_64  OK    ERROR  skipped
Package 11/32HostnameOS / ArchINSTALLBUILDCHECKBUILD BIN
flowMerge 2.59.0  (landing page)
Greg Finak
git_last_commit: 07705b4
git_last_commit_date: 2025-10-29 10:03:02 -0400
nebbiolo1Linux (Ubuntu 24.04.3 LTS) / x86_64  OK    OK    WARNINGS  YES
Package 12/32HostnameOS / ArchINSTALLBUILDCHECKBUILD BIN
flowWorkspace 4.23.0  (landing page)
Greg Finak , Mike Jiang
git_last_commit: 824996d
git_last_commit_date: 2025-10-29 10:07:43 -0400
nebbiolo1Linux (Ubuntu 24.04.3 LTS) / x86_64  OK    OK    WARNINGS  NO, package depends on 'DelayedArray' which is not available
Package 13/32HostnameOS / ArchINSTALLBUILDCHECKBUILD BIN
GeneNetworkBuilder 1.53.0  (landing page)
Jianhong Ou
git_last_commit: 98b73cc
git_last_commit_date: 2025-10-29 10:11:49 -0400
nebbiolo1Linux (Ubuntu 24.04.3 LTS) / x86_64  OK    OK    OK  YES
Package 14/32HostnameOS / ArchINSTALLBUILDCHECKBUILD BIN
GOstats 2.77.0  (landing page)
Bioconductor Package Maintainer
git_last_commit: d09aa16
git_last_commit_date: 2025-10-29 09:55:01 -0400
nebbiolo1Linux (Ubuntu 24.04.3 LTS) / x86_64  OK    ERROR  skipped
Package 15/32HostnameOS / ArchINSTALLBUILDCHECKBUILD BIN
hyperdraw 1.63.0  (landing page)
Paul Murrell
git_last_commit: 5f06f53
git_last_commit_date: 2025-10-29 10:04:13 -0400
nebbiolo1Linux (Ubuntu 24.04.3 LTS) / x86_64  OK    OK    OK  YES
Package 16/32HostnameOS / ArchINSTALLBUILDCHECKBUILD BIN
KEGGgraph 1.71.0  (landing page)
Jitao David Zhang
git_last_commit: 09a8170
git_last_commit_date: 2025-10-29 10:02:08 -0400
nebbiolo1Linux (Ubuntu 24.04.3 LTS) / x86_64  OK    ERROR  skipped
Package 17/32HostnameOS / ArchINSTALLBUILDCHECKBUILD BIN
MineICA 1.51.0  (landing page)
Anne Biton
git_last_commit: b926f54
git_last_commit_date: 2025-10-29 10:13:40 -0400
nebbiolo1Linux (Ubuntu 24.04.3 LTS) / x86_64  ERROR    ERROR  skipped
Package 18/32HostnameOS / ArchINSTALLBUILDCHECKBUILD BIN
mirIntegrator 1.41.0  (landing page)
Diana Diaz
git_last_commit: 85fa48a
git_last_commit_date: 2025-10-29 10:26:26 -0400
nebbiolo1Linux (Ubuntu 24.04.3 LTS) / x86_64  OK    OK    OK  NO, package depends on 'ROntoTools' which is not available
Package 19/32HostnameOS / ArchINSTALLBUILDCHECKBUILD BIN
MIRit 1.7.0  (landing page)
Jacopo Ronchi
git_last_commit: 624060e
git_last_commit_date: 2025-10-29 11:27:39 -0400
nebbiolo1Linux (Ubuntu 24.04.3 LTS) / x86_64  OK    OK    ERROR  
Package 20/32HostnameOS / ArchINSTALLBUILDCHECKBUILD BIN
mnem 1.27.0  (landing page)
Martin Pirkl
git_last_commit: 0fd323e
git_last_commit_date: 2025-10-29 10:52:33 -0400
nebbiolo1Linux (Ubuntu 24.04.3 LTS) / x86_64  OK    OK    OK  YES
Package 21/32HostnameOS / ArchINSTALLBUILDCHECKBUILD BIN
netresponse 1.71.0  (landing page)
Leo Lahti
git_last_commit: 8295054
git_last_commit_date: 2025-10-29 10:05:48 -0400
nebbiolo1Linux (Ubuntu 24.04.3 LTS) / x86_64  OK    OK    OK  YES
Package 22/32HostnameOS / ArchINSTALLBUILDCHECKBUILD BIN
OncoSimulR 4.13.0  (landing page)
Ramon Diaz-Uriarte
git_last_commit: d241471
git_last_commit_date: 2025-10-29 10:20:29 -0400
nebbiolo1Linux (Ubuntu 24.04.3 LTS) / x86_64  OK    OK    OK  YES
Package 23/32HostnameOS / ArchINSTALLBUILDCHECKBUILD BIN
ontoProc 2.5.0  (landing page)
Vincent Carey
git_last_commit: a09f239
git_last_commit_date: 2025-10-29 19:20:08 -0400
nebbiolo1Linux (Ubuntu 24.04.3 LTS) / x86_64  OK    OK    ERROR  
Package 24/32HostnameOS / ArchINSTALLBUILDCHECKBUILD BIN
paircompviz 1.49.0  (landing page)
Michal Burda
git_last_commit: 597b329
git_last_commit_date: 2025-10-29 10:15:14 -0400
nebbiolo1Linux (Ubuntu 24.04.3 LTS) / x86_64  OK    OK    OK  YES
Package 25/32HostnameOS / ArchINSTALLBUILDCHECKBUILD BIN
pathRender 1.79.0  (landing page)
Vince Carey
git_last_commit: d982243
git_last_commit_date: 2025-10-29 09:57:23 -0400
nebbiolo1Linux (Ubuntu 24.04.3 LTS) / x86_64  ERROR    ERROR  skipped
Package 26/32HostnameOS / ArchINSTALLBUILDCHECKBUILD BIN
pathview 1.51.0  (landing page)
Weijun Luo
git_last_commit: b31fe1e
git_last_commit_date: 2025-10-29 10:14:01 -0400
nebbiolo1Linux (Ubuntu 24.04.3 LTS) / x86_64  OK    OK    ERROR  
Package 27/32HostnameOS / ArchINSTALLBUILDCHECKBUILD BIN
Pigengene 1.37.0  (landing page)
Habil Zare
git_last_commit: b4e2edc
git_last_commit_date: 2025-10-29 10:32:29 -0400
nebbiolo1Linux (Ubuntu 24.04.3 LTS) / x86_64  ERROR    ERROR  skipped
Package 28/32HostnameOS / ArchINSTALLBUILDCHECKBUILD BIN
qpgraph 2.45.0  (landing page)
Robert Castelo
git_last_commit: eff82ca
git_last_commit_date: 2025-10-29 10:02:10 -0400
nebbiolo1Linux (Ubuntu 24.04.3 LTS) / x86_64  OK    ERROR  skipped
Package 29/32HostnameOS / ArchINSTALLBUILDCHECKBUILD BIN
ROntoTools 2.39.0  (landing page)
Sorin Draghici
git_last_commit: 5a6e829
git_last_commit_date: 2025-10-29 10:14:20 -0400
nebbiolo1Linux (Ubuntu 24.04.3 LTS) / x86_64  OK    OK    WARNINGS  NO, package depends on 'KEGGREST' which is not available
Package 30/32HostnameOS / ArchINSTALLBUILDCHECKBUILD BIN
SGCP 1.11.0  (landing page)
Niloofar AghaieAbiane
git_last_commit: d3ffc3a
git_last_commit_date: 2025-10-29 11:20:24 -0400
nebbiolo1Linux (Ubuntu 24.04.3 LTS) / x86_64  OK    ERROR  skipped
Package 31/32HostnameOS / ArchINSTALLBUILDCHECKBUILD BIN
SplicingGraphs 1.51.0  (landing page)
H. Pagès
git_last_commit: 56d6382
git_last_commit_date: 2025-10-29 10:14:47 -0400
nebbiolo1Linux (Ubuntu 24.04.3 LTS) / x86_64  OK    ERROR  skipped
Package 32/32HostnameOS / ArchINSTALLBUILDCHECKBUILD BIN
TRONCO 2.43.0  (landing page)
Luca De Sano
git_last_commit: 7420d7e
git_last_commit_date: 2025-10-29 10:23:30 -0400
nebbiolo1Linux (Ubuntu 24.04.3 LTS) / x86_64  OK    OK    OK  YES