Package: RgnTX Version: 1.13.0 Command: /home/biocbuild/bbs-3.23-bioc/R/bin/R CMD INSTALL RgnTX StartedAt: 2025-11-26 15:59:34 -0500 (Wed, 26 Nov 2025) EndedAt: 2025-11-26 16:00:15 -0500 (Wed, 26 Nov 2025) EllapsedTime: 41.6 seconds RetCode: 0 Status: OK