Package: RgnTX Version: 1.13.0 Command: /home/biocbuild/bbs-3.23-bioc/R/bin/R CMD build --keep-empty-dirs --no-resave-data RgnTX StartedAt: 2025-11-27 19:35:10 -0500 (Thu, 27 Nov 2025) EndedAt: 2025-11-27 19:38:02 -0500 (Thu, 27 Nov 2025) EllapsedTime: 172.2 seconds RetCode: 1 Status: ERROR PackageFile: None PackageFileSize: NA