Package: RgnTX Version: 1.13.0 Command: /Library/Frameworks/R.framework/Resources/bin/R CMD INSTALL RgnTX StartedAt: 2025-11-20 15:31:00 -0500 (Thu, 20 Nov 2025) EndedAt: 2025-11-20 15:31:16 -0500 (Thu, 20 Nov 2025) EllapsedTime: 16.4 seconds RetCode: 0 Status: OK