Package: Rfastp Version: 1.19.1 Command: /home/biocbuild/R/R/bin/R CMD INSTALL Rfastp StartedAt: 2025-10-13 21:58:43 -0000 (Mon, 13 Oct 2025) EndedAt: 2025-10-13 21:58:43 -0000 (Mon, 13 Oct 2025) EllapsedTime: 0.3 seconds RetCode: 1 Status: ERROR