Package: Rfastp Version: 1.19.1 Command: /home/biocbuild/R/R/bin/R CMD build --keep-empty-dirs --no-resave-data Rfastp StartedAt: 2025-10-14 02:57:08 -0000 (Tue, 14 Oct 2025) EndedAt: 2025-10-14 02:57:09 -0000 (Tue, 14 Oct 2025) EllapsedTime: 1.0 seconds RetCode: 1 Status: ERROR PackageFile: None PackageFileSize: NA