############################################################################## ############################################################################## ### ### Running command: ### ### /home/biocbuild/R/R/bin/R CMD build --keep-empty-dirs --no-resave-data Rfastp ### ############################################################################## ############################################################################## * checking for file ‘Rfastp/DESCRIPTION’ ... OK * preparing ‘Rfastp’: * checking DESCRIPTION meta-information ... OK * cleaning src * running ‘cleanup’ * installing the package to build vignettes ----------------------------------- ERROR: dependency ‘zlibbioc’ is not available for package ‘Rfastp’ Perhaps try a variation of: install.packages('zlibbioc') * removing ‘/home/biocbuild/tmp/RtmpGTyPFE/Rinst7b1c869f2ace9/Rfastp’ ----------------------------------- ERROR: package installation failed