Package: ResidualMatrix Version: 1.19.0 Command: /home/biocbuild/R/R/bin/R CMD INSTALL ResidualMatrix StartedAt: 2025-10-02 20:37:03 -0000 (Thu, 02 Oct 2025) EndedAt: 2025-10-02 20:37:27 -0000 (Thu, 02 Oct 2025) EllapsedTime: 24.5 seconds RetCode: 0 Status: OK