Package: ResidualMatrix Version: 1.19.0 Command: rm -rf ResidualMatrix.buildbin-libdir && mkdir ResidualMatrix.buildbin-libdir && F:\biocbuild\bbs-3.22-bioc\R\bin\R.exe CMD INSTALL --build --library=ResidualMatrix.buildbin-libdir ResidualMatrix_1.19.0.tar.gz StartedAt: 2025-08-15 11:06:45 -0400 (Fri, 15 Aug 2025) EndedAt: 2025-08-15 11:07:37 -0400 (Fri, 15 Aug 2025) EllapsedTime: 52.4 seconds RetCode: 0 Status: OK PackageFile: ResidualMatrix_1.19.0.zip PackageFileSize: 624 KiB