Package: ResidualMatrix Version: 1.21.0 Command: /home/biocbuild/bbs-3.23-bioc/R/bin/R CMD INSTALL ResidualMatrix StartedAt: 2025-11-07 15:15:53 -0500 (Fri, 07 Nov 2025) EndedAt: 2025-11-07 15:16:10 -0500 (Fri, 07 Nov 2025) EllapsedTime: 17.7 seconds RetCode: 0 Status: OK