Package: ResidualMatrix Version: 1.21.0 Command: /home/biocbuild/bbs-3.23-bioc/R/bin/R CMD check --install=check:ResidualMatrix.install-out.txt --library=/home/biocbuild/bbs-3.23-bioc/R/site-library --timings ResidualMatrix_1.21.0.tar.gz StartedAt: 2025-11-08 03:07:56 -0500 (Sat, 08 Nov 2025) EndedAt: 2025-11-08 03:11:28 -0500 (Sat, 08 Nov 2025) EllapsedTime: 212.4 seconds RetCode: 0 Status: OK CheckDir: ResidualMatrix.Rcheck Warnings: 0