Package: ResidualMatrix Version: 1.21.0 Command: /home/biocbuild/bbs-3.23-bioc/R/bin/R CMD build --keep-empty-dirs --no-resave-data ResidualMatrix StartedAt: 2025-11-07 19:31:17 -0500 (Fri, 07 Nov 2025) EndedAt: 2025-11-07 19:32:00 -0500 (Fri, 07 Nov 2025) EllapsedTime: 43.0 seconds RetCode: 0 Status: OK PackageFile: ResidualMatrix_1.21.0.tar.gz PackageFileSize: 379.3 KiB