Package: ReportingTools Version: 2.49.0 Command: /home/biocbuild/R/R/bin/R CMD INSTALL ReportingTools StartedAt: 2025-09-29 21:27:58 -0000 (Mon, 29 Sep 2025) EndedAt: 2025-09-29 21:29:19 -0000 (Mon, 29 Sep 2025) EllapsedTime: 80.9 seconds RetCode: 0 Status: OK