Package: ReportingTools Version: 2.49.0 Command: /home/biocbuild/R/R/bin/R CMD build --keep-empty-dirs --no-resave-data ReportingTools StartedAt: 2025-09-30 02:38:00 -0000 (Tue, 30 Sep 2025) EndedAt: 2025-09-30 02:39:29 -0000 (Tue, 30 Sep 2025) EllapsedTime: 89.0 seconds RetCode: 0 Status: OK PackageFile: ReportingTools_2.49.0.tar.gz PackageFileSize: 1.773 MiB